BEGIN:VCALENDAR
VERSION:2.0
PRODID:SchoolNow
CALSCALE:GREGORIAN
BEGIN:VEVENT
UID:f546a15c-597b-11ef-898d-0a58a9feac02
DTSTAMP:20241213T152052Z
SUMMARY:CDD Board Meeting - Dec. 2024
LOCATION:The office of Harrison Ranch Clubhouse located at 5755 Harrison Ra
 nch Blvd. Parrish\, FL 34219
URL;VALUE=URI:https://www.prosperitylakescdd.org/calendar/6394091/cdd-board
 -meeting-dec-2024
DTSTART:20241219T160000Z
DTEND:20241219T170000Z
ATTACH;FILENAME=2024-12-19 - Prosperity Lakes CDD - Revised Final Agenda.pd
 f;FMTTYPE=application/pdf:https://campussuite-storage.s3.amazonaws.com/pro
 d/1559089/f22bfa98-3107-11ec-ac6b-02f95f1c9203/2891819/d282893e-b965-11ef-
 bc08-0a58a9feac02/file/2024-12-19 - Prosperity Lakes CDD - Revised Final A
 genda.pdf
END:VEVENT
END:VCALENDAR
