BEGIN:VCALENDAR
VERSION:2.0
PRODID:SchoolNow
CALSCALE:GREGORIAN
BEGIN:VEVENT
UID:092c86e6-597c-11ef-920d-0a58a9feac02
DTSTAMP:20250116T195243Z
SUMMARY:CDD Board Meeting - Jan. 2025
LOCATION:The office of Harrison Ranch Clubhouse located at 5755 Harrison Ra
 nch Blvd. Parrish\, FL 34219
URL;VALUE=URI:https://www.prosperitylakescdd.org/calendar/6394092/cdd-board
 -meeting-jan-2025
DTSTART:20250123T160000Z
DTEND:20250123T170000Z
ATTACH;FILENAME=2025-01-23 - Prosperity Lakes CDD - Final Agenda.pdf;FMTTYP
 E=application/pdf:https://campussuite-storage.s3.amazonaws.com/prod/155908
 9/f22bfa98-3107-11ec-ac6b-02f95f1c9203/2903531/6eaaf8ee-d443-11ef-bc00-0af
 fd819910f/file/2025-01-23 - Prosperity Lakes CDD - Final Agenda.pdf
END:VEVENT
END:VCALENDAR
