BEGIN:VCALENDAR
VERSION:2.0
PRODID:SchoolNow
CALSCALE:GREGORIAN
BEGIN:VEVENT
UID:29188f7c-597c-11ef-a5db-0affdd3cadf9
DTSTAMP:20250320T171654Z
SUMMARY:CDD Board Meeting - Mar. 2025
LOCATION:The office of Harrison Ranch Clubhouse located at 5755 Harrison Ra
 nch Blvd. Parrish\, FL 34219
URL;VALUE=URI:https://www.prosperitylakescdd.org/calendar/6394094/cdd-board
 -meeting-mar-2025
DTSTART:20250327T150000Z
DTEND:20250327T160000Z
ATTACH;FILENAME=2025-03-27 - Prosperity Lakes CDD - Final Agenda.pdf;FMTTYP
 E=application/pdf:https://campussuite-storage.s3.amazonaws.com/prod/155908
 9/f22bfa98-3107-11ec-ac6b-02f95f1c9203/2930136/1aea1562-05af-11f0-a751-0e7
 67d10d9b5/file/2025-03-27 - Prosperity Lakes CDD - Final Agenda.pdf
END:VEVENT
END:VCALENDAR
