BEGIN:VCALENDAR
VERSION:2.0
PRODID:SchoolNow
CALSCALE:GREGORIAN
BEGIN:VEVENT
UID:3bce0dcc-597c-11ef-a882-0e29921a1d35
DTSTAMP:20250417T155206Z
SUMMARY:CDD Board Meeting - Apr. 2025
LOCATION:The office of Harrison Ranch Clubhouse located at 5755 Harrison Ra
 nch Blvd. Parrish\, FL 34219
URL;VALUE=URI:https://www.prosperitylakescdd.org/calendar/6394095/cdd-board
 -meeting-apr-2025
DTSTART:20250424T150000Z
DTEND:20250424T160000Z
ATTACH;FILENAME=2025-04-24 - Prosperity Lakes CDD - Revised Final Agenda.pd
 f;FMTTYPE=application/pdf:https://campussuite-storage.s3.amazonaws.com/pro
 d/1559089/f22bfa98-3107-11ec-ac6b-02f95f1c9203/2941862/d175356e-1ba3-11f0-
 9d99-0a58a9feac02/file/2025-04-24 - Prosperity Lakes CDD - Revised Final A
 genda.pdf
END:VEVENT
END:VCALENDAR
