BEGIN:VCALENDAR
VERSION:2.0
PRODID:SchoolNow
CALSCALE:GREGORIAN
BEGIN:VEVENT
UID:49a81cd0-597c-11ef-9e37-0e29921a1d35
DTSTAMP:20251001T211433Z
SUMMARY:CDD Board Meeting - May 2025
LOCATION:The office of Harrison Ranch Clubhouse located at 5755 Harrison Ra
 nch Blvd. Parrish\, FL 34219
URL;VALUE=URI:https://www.prosperitylakescdd.org/calendar/6394096/cdd-board
 -meeting-may-2025
DTSTART:20250522T150000Z
DTEND:20250522T160000Z
ATTACH;FILENAME=2025-05-22 - Prosperity Lakes CDD - Final Agenda (1).pdf;FM
 TTYPE=application/pdf:https://campussuite-storage.s3.amazonaws.com/prod/15
 59089/f22bfa98-3107-11ec-ac6b-02f95f1c9203/2954896/8706327e-324d-11f0-8392
 -0a58a9feac02/file/2025-05-22 - Prosperity Lakes CDD - Final Agenda (1).pd
 f
END:VEVENT
END:VCALENDAR
