BEGIN:VCALENDAR
VERSION:2.0
PRODID:SchoolNow
CALSCALE:GREGORIAN
BEGIN:VEVENT
UID:5aa94162-597c-11ef-b6c9-0a58a9feac02
DTSTAMP:20250623T153643Z
SUMMARY:CDD Board Meeting - June 2025 - Cancelled
LOCATION:The office of Harrison Ranch Clubhouse located at 5755 Harrison Ra
 nch Blvd. Parrish\, FL 34219
URL;VALUE=URI:https://www.prosperitylakescdd.org/calendar/6394097/cdd-board
 -meeting-june-2025
DTSTART:20250626T150000Z
DTEND:20250626T160000Z
ATTACH;FILENAME=2025-06-26 - Prosperity Lakes CDD - Final Agenda.pdf;FMTTYP
 E=application/pdf:https://campussuite-storage.s3.amazonaws.com/prod/155908
 9/f22bfa98-3107-11ec-ac6b-02f95f1c9203/2971233/c740fb62-4d4b-11f0-ae11-0e8
 bf55b29ab/file/2025-06-26 - Prosperity Lakes CDD - Final Agenda.pdf
END:VEVENT
END:VCALENDAR
