BEGIN:VCALENDAR
VERSION:2.0
PRODID:SchoolNow
CALSCALE:GREGORIAN
BEGIN:VEVENT
UID:75b16a3e-597c-11ef-9c4f-0e29921a1d35
DTSTAMP:20250717T191806Z
SUMMARY:CDD Board Meeting - July 2025
LOCATION:The office of Harrison Ranch Clubhouse located at 5755 Harrison Ra
 nch Blvd. Parrish\, FL 34219
URL;VALUE=URI:https://www.prosperitylakescdd.org/calendar/6394098/cdd-board
 -meeting-july-2025
DTSTART:20250724T150000Z
DTEND:20250724T160000Z
ATTACH;FILENAME=2025-07-24 - Prosperity Lakes CDD - Final Agenda.pdf;FMTTYP
 E=application/pdf:https://campussuite-storage.s3.amazonaws.com/prod/155908
 9/f22bfa98-3107-11ec-ac6b-02f95f1c9203/2982881/bfa9b8be-6342-11f0-be91-0a5
 8a9feac02/file/2025-07-24 - Prosperity Lakes CDD - Final Agenda.pdf
END:VEVENT
END:VCALENDAR
