BEGIN:VCALENDAR
VERSION:2.0
PRODID:SchoolNow
CALSCALE:GREGORIAN
BEGIN:VEVENT
UID:89362874-597c-11ef-a2d6-026607238f47
DTSTAMP:20250826T133422Z
SUMMARY:CDD Board Meeting - Aug. 2025 - Cancelled
LOCATION:The office of Harrison Ranch Clubhouse located at 5755 Harrison Ra
 nch Blvd. Parrish\, FL 34219
URL;VALUE=URI:https://www.prosperitylakescdd.org/calendar/6394099/cdd-board
 -meeting-aug-2025
DTSTART:20250828T150000Z
DTEND:20250828T160000Z
ATTACH;FILENAME=2025-08-28 - Prosperity Lakes CDD - Final Agenda.pdf;FMTTYP
 E=application/pdf:https://campussuite-storage.s3.amazonaws.com/prod/155908
 9/f22bfa98-3107-11ec-ac6b-02f95f1c9203/2997056/68d5b9b8-7eac-11f0-8437-029
 f65b6582b/file/2025-08-28 - Prosperity Lakes CDD - Final Agenda.pdf
END:VEVENT
END:VCALENDAR
