BEGIN:VCALENDAR
VERSION:2.0
PRODID:SchoolNow
CALSCALE:GREGORIAN
BEGIN:VEVENT
UID:30503d5c-7c77-11f0-926d-0a58a9feac02
DTSTAMP:20251016T212104Z
SUMMARY:CDD Board Meeting - Oct. 2025
LOCATION:The office of Harrison Ranch Clubhouse located at 5755 Harrison Ra
 nch Blvd. Parrish\, FL 34219
URL;VALUE=URI:https://www.prosperitylakescdd.org/calendar/8519156/cdd-board
 -meeting-oct-2025
DTSTART:20251023T150000Z
DTEND:20251023T160000Z
ATTACH;FILENAME=2025-10-23 - Prosperity Lakes CDD- Final Agenda (1).pdf;FMT
 TYPE=application/pdf:https://campussuite-storage.s3.amazonaws.com/prod/155
 9089/f22bfa98-3107-11ec-ac6b-02f95f1c9203/3022326/03508f04-aad6-11f0-aed3-
 023f27808c3f/file/2025-10-23 - Prosperity Lakes CDD- Final Agenda (1).pdf
END:VEVENT
END:VCALENDAR
