BEGIN:VCALENDAR
VERSION:2.0
PRODID:SchoolNow
CALSCALE:GREGORIAN
BEGIN:VEVENT
UID:38c76bb8-7c77-11f0-a92a-02efef4a7877
DTSTAMP:20251113T201442Z
SUMMARY:CDD Board Meeting - Nov. 2025
LOCATION:The office of Harrison Ranch Clubhouse located at 5755 Harrison Ra
 nch Blvd. Parrish\, FL 34219
URL;VALUE=URI:https://www.prosperitylakescdd.org/calendar/8519157/cdd-board
 -meeting-nov-2025
DTSTART:20251120T160000Z
DTEND:20251120T170000Z
ATTACH;FILENAME=2025-11-20 - Prosperity Lakes CDD- Final Agenda.pdf;FMTTYPE
 =application/pdf:https://campussuite-storage.s3.amazonaws.com/prod/1559089
 /f22bfa98-3107-11ec-ac6b-02f95f1c9203/3037861/617bd8a6-c0cd-11f0-8058-0aff
 cbc6d1ad/file/2025-11-20 - Prosperity Lakes CDD- Final Agenda.pdf
END:VEVENT
END:VCALENDAR
