BEGIN:VCALENDAR
VERSION:2.0
PRODID:SchoolNow
CALSCALE:GREGORIAN
BEGIN:VEVENT
UID:40e68ab8-7c77-11f0-a382-0a58a9feac02
DTSTAMP:20251208T152806Z
SUMMARY:CDD Board Meeting - Dec. 2025 - Cancelled
LOCATION:The office of Harrison Ranch Clubhouse located at 5755 Harrison Ra
 nch Blvd. Parrish\, FL 34219
URL;VALUE=URI:https://www.prosperitylakescdd.org/calendar/8519158/cdd-board
 -meeting-dec-2025
DTSTART:20251218T160000Z
DTEND:20251218T170000Z
END:VEVENT
END:VCALENDAR
