BEGIN:VCALENDAR
VERSION:2.0
PRODID:SchoolNow
CALSCALE:GREGORIAN
BEGIN:VEVENT
UID:4a857b38-7c77-11f0-838d-0afff983aa55
DTSTAMP:20260115T172633Z
SUMMARY:CDD Board Meeting - Jan. 2026
LOCATION:The office of Harrison Ranch Clubhouse located at 5755 Harrison Ra
 nch Blvd. Parrish\, FL 34219
URL;VALUE=URI:https://www.prosperitylakescdd.org/calendar/8519159/cdd-board
 -meeting-jan-2026
DTSTART:20260122T160000Z
DTEND:20260122T170000Z
ATTACH;FILENAME=2026-01-22  - Prosperity Lakes CDD- Final Agenda.pdf;FMTTYP
 E=application/pdf:https://campussuite-storage.s3.amazonaws.com/prod/155908
 9/f22bfa98-3107-11ec-ac6b-02f95f1c9203/3060714/53f1aa76-f237-11f0-ac5c-0a5
 8a9feac02/file/2026-01-22  - Prosperity Lakes CDD- Final Agenda.pdf
END:VEVENT
END:VCALENDAR
