BEGIN:VCALENDAR
VERSION:2.0
PRODID:SchoolNow
CALSCALE:GREGORIAN
BEGIN:VEVENT
UID:5d6053fe-7c77-11f0-9d5c-02b6ac64bda5
DTSTAMP:20260219T184825Z
SUMMARY:CDD Board Meeting - Feb. 2026
LOCATION:The office of Harrison Ranch Clubhouse located at 5755 Harrison Ra
 nch Blvd. Parrish\, FL 34219
URL;VALUE=URI:https://www.prosperitylakescdd.org/calendar/8519161/cdd-board
 -meeting-feb-2026
DTSTART:20260226T160000Z
DTEND:20260226T170000Z
ATTACH;FILENAME=2026-02-26 Prosperity Lakes CDD- Final Agenda.pdf;FMTTYPE=a
 pplication/pdf:https://campussuite-storage.s3.amazonaws.com/prod/1559089/f
 22bfa98-3107-11ec-ac6b-02f95f1c9203/3072646/8f7c664c-0dc3-11f1-971b-0261e2
 fd6d85/file/2026-02-26 Prosperity Lakes CDD- Final Agenda.pdf
END:VEVENT
END:VCALENDAR
