BEGIN:VCALENDAR
VERSION:2.0
PRODID:SchoolNow
CALSCALE:GREGORIAN
BEGIN:VEVENT
UID:65fc648a-7c77-11f0-b15e-0affe844e53d
DTSTAMP:20260319T194612Z
SUMMARY:CDD Board Meeting - Mar. 2026
LOCATION:The office of Harrison Ranch Clubhouse located at 5755 Harrison Ra
 nch Blvd. Parrish\, FL 34219
URL;VALUE=URI:https://www.prosperitylakescdd.org/calendar/8519162/cdd-board
 -meeting-mar-2026
DTSTART:20260326T150000Z
DTEND:20260326T160000Z
ATTACH;FILENAME=2026-03 -26 Prosperity Lakes CDD- Final Agenda.pdf;FMTTYPE=
 application/pdf:https://campussuite-storage.s3.amazonaws.com/prod/1559089/
 f22bfa98-3107-11ec-ac6b-02f95f1c9203/3081889/465fa0b8-23cc-11f1-b316-0a58a
 9feac02/file/2026-03 -26 Prosperity Lakes CDD- Final Agenda.pdf
END:VEVENT
END:VCALENDAR
