BEGIN:VCALENDAR
VERSION:2.0
PRODID:SchoolNow
CALSCALE:GREGORIAN
BEGIN:VEVENT
UID:6f3aa20a-7c77-11f0-84f5-0a58a9feac02
DTSTAMP:20260226T171916Z
SUMMARY:CDD Board Meeting - Apr. 2026
LOCATION:The office of Harrison Ranch Clubhouse located at 5755 Harrison Ra
 nch Blvd. Parrish\, FL 34219
URL;VALUE=URI:https://www.prosperitylakescdd.org/calendar/8519163/cdd-board
 -meeting-apr-2026
DTSTART:20260430T150000Z
DTEND:20260430T160000Z
END:VEVENT
END:VCALENDAR
