BEGIN:VCALENDAR
VERSION:2.0
PRODID:SchoolNow
CALSCALE:GREGORIAN
BEGIN:VEVENT
UID:7a726838-7c77-11f0-83d4-0affc8c049ad
DTSTAMP:20250818T210824Z
SUMMARY:CDD Board Meeting - May 2026
LOCATION:The office of Harrison Ranch Clubhouse located at 5755 Harrison Ra
 nch Blvd. Parrish\, FL 34219
URL;VALUE=URI:https://www.prosperitylakescdd.org/calendar/8519164/cdd-board
 -meeting-may-2026
DTSTART:20260528T150000Z
DTEND:20260528T160000Z
END:VEVENT
END:VCALENDAR
