BEGIN:VCALENDAR
VERSION:2.0
PRODID:SchoolNow
CALSCALE:GREGORIAN
BEGIN:VEVENT
UID:8ee0acb2-7c77-11f0-a5e4-02eb822844bf
DTSTAMP:20250818T210858Z
SUMMARY:CDD Board Meeting - Jul. 2026
LOCATION:The office of Harrison Ranch Clubhouse located at 5755 Harrison Ra
 nch Blvd. Parrish\, FL 34219
URL;VALUE=URI:https://www.prosperitylakescdd.org/calendar/8519166/cdd-board
 -meeting-jul-2026
DTSTART:20260722T150000Z
DTEND:20260722T160000Z
END:VEVENT
END:VCALENDAR
