BEGIN:VCALENDAR
VERSION:2.0
PRODID:SchoolNow
CALSCALE:GREGORIAN
BEGIN:VEVENT
UID:9fa60e48-7c77-11f0-81d8-029f65b6582b
DTSTAMP:20250818T210926Z
SUMMARY:CDD Board Meeting - Sept. 2026
LOCATION:The office of Harrison Ranch Clubhouse located at 5755 Harrison Ra
 nch Blvd. Parrish\, FL 34219
URL;VALUE=URI:https://www.prosperitylakescdd.org/calendar/8519168/cdd-board
 -meeting-aug-2026-clone
DTSTART:20260924T150000Z
DTEND:20260924T160000Z
END:VEVENT
END:VCALENDAR
